BEGIN:VCALENDAR
VERSION:2.0
METHOD:PUBLISH
PRODID:-//Causal Sarl//LionsBase Calendar 5.0.x-dev//EN
TZID:Europe/Zurich
BEGIN:VEVENT
UID:30393_20260526@graz-styria.lions.at
DTSTAMP:20260426T035619Z
DTSTART:20260526T170000Z
DTEND:20260526T200000Z
ORGANIZER:LC Graz Styria
SUMMARY:Clubabend
DESCRIPTION:Gösser Bräu Graz
END:VEVENT
END:VCALENDAR
