BEGIN:VCALENDAR
VERSION:2.0
METHOD:PUBLISH
PRODID:-//Causal Sarl//LionsBase Calendar 5.0.x-dev//EN
TZID:Europe/Zurich
BEGIN:VEVENT
UID:30392_20260512@graz-styria.lions.at
DTSTAMP:20260426T040412Z
DTSTART:20260512T170000Z
DTEND:20260512T200000Z
ORGANIZER:LC Graz Styria
SUMMARY:GENERALVERSAMMLUNG II.
DESCRIPTION:Gösser Bräu Graz
END:VEVENT
END:VCALENDAR
