BEGIN:VCALENDAR
VERSION:2.0
METHOD:PUBLISH
PRODID:-//Causal Sarl//LionsBase Calendar 5.0.x-dev//EN
TZID:Europe/Zurich
BEGIN:VEVENT
UID:30391_20260428@graz-styria.lions.at
DTSTAMP:20260426T040653Z
DTSTART:20260428T170000Z
DTEND:20260428T200000Z
ORGANIZER:LC Graz Styria
SUMMARY:Clubabend
DESCRIPTION:Gösser Bräu Graz
END:VEVENT
END:VCALENDAR
